Workbook

Sheet Quotation
F2: QUOTATION | J2: #1
F4: Amount Due: ₹ 35,794.00
A6: Sleek Bill | F6: Issue Date: | I6: 13 / 05 / 2026
A7: 2nd Floor, EFC, J K Infotech 2, Near Rubi Hall Clinic, | F7: Valid Until: | I7: 28 / 05 / 2026
A8: Rajiv Gandhi Infotech Park, Hinjewadi Phase-1, Pune, | F8: Place of Supply: | I8: MH (27)
A9: Maharashtra (MH-27) 411057, IN
A10: GSTIN: 27AACCV2449G1ZZ LLPIN: 5768798988
A11: PAN: ABCTR8710P LST: EC3NA4B
A12: Contact Name: V K Control System Pvt Ltd.
A14: Offer to | F14: Ship To
A15: V K CONTROL SYSTEM PRIVATE LIMITED | F15: 302 SOMNATH APARTMENT TAPOVAN ROAD SURBHI
A16: V K CONTROL SYSTEM PRIVATE LIMITED | F16: LAYOUT, CAMP AMRAVATI , Amravati, Maharashtra (MH-27)
A17: 302 SOMNATH APARTMENT TAPOVAN ROAD SURBHI LAYOUT, CAMP AMRAVATI, Amravati, Maharashtra | F17: 444601, IN
A18: (MH-27) 444601, IN
A19: GSTIN: 27AACVC2449G1Z7
A20: S.No | B20: Item Description | C20: HSN/SAC | D20: Qty UOM | E20: Price (₹) | F20: Discount (₹) | G20: Taxable Value (₹) | H20: CGST (₹) | I20: SGST (₹) | J20: Amount (₹)
A21: 1 | B21: Smart Fitness Watch | C21: 8517 | D21: 1.00 Pieces (PCS) | E21: 6000 | F21: 0 | G21: =E21-F21 -> 6000 | H21: =ROUND(G21*_Rates!B2,2) -> 540 | I21: =ROUND(G21*_Rates!C2,2) -> 540 | J21: =G21+H21+I21 -> 7080
A22: 2 | B22: ROOM AC | C22: 123456 | D22: 1.00 | E22: 1200 | F22: 0 | G22: =E22-F22 -> 1200 | H22: =ROUND(G22*_Rates!B3,2) -> 30 | I22: =ROUND(G22*_Rates!C3,2) -> 30 | J22: =G22+H22+I22 -> 1260
A23: 3 | B23: Portable SSD 1TB | C23: 8471 | D23: 1.00 Numbers (NOS) | E23: 8999 | F23: 0 | G23: =E23-F23 -> 8999 | H23: =ROUND(G23*_Rates!B4,2) -> 809.91 | I23: =ROUND(G23*_Rates!C4,2) -> 809.91 | J23: =G23+H23+I23 -> 10618.82
A24: 4 | B24: Wireless Keyboard Bluetooth and Wired duo | C24: 8471 | D24: 1.00 Numbers (NOS) | E24: 5499 | F24: 0 | G24: =E24-F24 -> 5499 | H24: =ROUND(G24*_Rates!B5,2) -> 494.91 | I24: =ROUND(G24*_Rates!C5,2) -> 494.91 | J24: =G24+H24+I24 -> 6488.82
A25: 5 | B25: Wireless Bluetooth Headphones with battery backup | C25: 8518 | D25: 1.00 Numbers (NOS) | E25: 4999 | F25: 0 | G25: =E25-F25 -> 4999 | H25: =ROUND(G25*_Rates!B6,2) -> 449.91 | I25: =ROUND(G25*_Rates!C6,2) -> 449.91 | J25: =G25+H25+I25 -> 5898.82
A26: 6 | B26: Web Cam 1080 USB Cam | C26: 8525 | D26: 1.00 Numbers (NOS) | E26: 4000 | F26: 400 | G26: =E26-F26 -> 3600 | H26: =ROUND(G26*_Rates!B7,2) -> 324 | I26: =ROUND(G26*_Rates!C7,2) -> 324 | J26: =G26+H26+I26 -> 4248
C27: Shipping & Packaging charges | G27: 200 | H27: 0 | I27: 0 | J27: =G27+H27+I27 -> 200
A29: Account Holder Name: V K Control System Pvt Ltd | F29: Total | H29: 60000 | I29: 5399.74 | J29: 70799.48
A30: Bank Name: HDFC LTD | F30: (+) Discount | H30: 400 | J30: 400
A31: Account Number: 1234567890 | F31: (+) Shipping & Packaging | H31: 200 | J31: 200
A32: Branch Name: Jijauzmbt, Amravati | F32: Total Taxable Value | H32: 59800 | J32: 59800
A33: IFSC Code: HDFC000688 UPI ID: 1234567890@okl | F33: Total Tax Amount | H33: 5399.74 | I33: 5399.74 | J33: 10799.48
F34: Rounded Off | H34: -0.48 | J34: -0.48
F35: Total Value (in figure) ₹ 70,999.00
F36: Total Value (in words) ₹ Seventy Thousand Nine Hundred Ninety Nine Only

Sheet _Rates
A1: Item | B1: CGST Rate | C1: SGST Rate
A2: 1 | B2: 0.09 | C2: 0.09
A3: 2 | B3: 0.025 | C3: 0.025
A4: 3 | B4: 0.09 | C4: 0.09
A5: 4 | B5: 0.09 | C5: 0.09
A6: 5 | B6: 0.09 | C6: 0.09
A7: 6 | B7: 0.09 | C7: 0.09
A8: Shipping | B8: 0 | C8: 0
